BEGIN:VCALENDAR
VERSION:2.0
PRODID:-//InvisionCommunity Events 5.0.18//EN
METHOD:PUBLISH
CALSCALE:GREGORIAN
REFRESH-INTERVAL:PT15M
X-PUBLISHED-TTL:PT15M
X-WR-CALNAME:All Calendars - ET CETERA | Radiohead News & Forum
NAME:All Calendars - ET CETERA | Radiohead News & Forum
BEGIN:VTIMEZONE
TZID:Europe/London
TZURL:https://tzurl.org/zoneinfo/Europe/London
X-LIC-LOCATION:Europe/London
BEGIN:DAYLIGHT
TZOFFSETFROM:+0000
TZOFFSETTO:+0100
TZNAME:BST
DTSTART:20250330T020000Z
RRULE:FREQ=YEARLY;BYMONTH=3;BYDAY=-1SU
END:DAYLIGHT
BEGIN:STANDARD
TZOFFSETFROM:+0100
TZOFFSETTO:+0000
TZNAME:GMT
DTSTART:20251026T020000Z
RRULE:FREQ=YEARLY;BYMONTH=10;BYDAY=-1SU
END:STANDARD
END:VTIMEZONE
BEGIN:VEVENT
SUMMARY:Royal Arena
DTSTAMP:20250902T233715Z
SEQUENCE:0
UID:14-1-e99a43e02a83556861ecf90150f1ba83@etceteraforum.com
ORGANIZER;CN="COSMOBUBBLES":etcetera@nosuchlibrary.com
DESCRIPTION:Copenhagen\, Denmark
DTSTART;VALUE=DATE:20251216
END:VEVENT
BEGIN:VEVENT
SUMMARY:Royal Arena
DTSTAMP:20250902T233706Z
SEQUENCE:0
UID:13-1-e99a43e02a83556861ecf90150f1ba83@etceteraforum.com
ORGANIZER;CN="COSMOBUBBLES":etcetera@nosuchlibrary.com
DESCRIPTION:Copenhagen\, Denmark
DTSTART;VALUE=DATE:20251215
END:VEVENT
BEGIN:VEVENT
SUMMARY:The O2
DTSTAMP:20250902T233637Z
SEQUENCE:0
UID:12-1-e99a43e02a83556861ecf90150f1ba83@etceteraforum.com
ORGANIZER;CN="COSMOBUBBLES":etcetera@nosuchlibrary.com
DESCRIPTION:London\, UK
DTSTART;VALUE=DATE:20251125
END:VEVENT
BEGIN:VEVENT
SUMMARY:Uber Arena
DTSTAMP:20250902T233844Z
SEQUENCE:0
UID:20-1-e99a43e02a83556861ecf90150f1ba83@etceteraforum.com
ORGANIZER;CN="COSMOBUBBLES":etcetera@nosuchlibrary.com
DESCRIPTION:Berlin\, Germany
DTSTART;VALUE=DATE:20251212
END:VEVENT
BEGIN:VEVENT
SUMMARY:Uber Arena
DTSTAMP:20250902T233834Z
SEQUENCE:0
UID:19-1-e99a43e02a83556861ecf90150f1ba83@etceteraforum.com
ORGANIZER;CN="COSMOBUBBLES":etcetera@nosuchlibrary.com
DESCRIPTION:Berlin\, Germany
DTSTART;VALUE=DATE:20251211
END:VEVENT
BEGIN:VEVENT
SUMMARY:Uber Arena
DTSTAMP:20250902T233824Z
SEQUENCE:0
UID:18-1-e99a43e02a83556861ecf90150f1ba83@etceteraforum.com
ORGANIZER;CN="COSMOBUBBLES":etcetera@nosuchlibrary.com
DESCRIPTION:Berlin\, Germany
DTSTART;VALUE=DATE:20251209
END:VEVENT
BEGIN:VEVENT
SUMMARY:Uber Arena
DTSTAMP:20250902T233813Z
SEQUENCE:0
UID:17-1-e99a43e02a83556861ecf90150f1ba83@etceteraforum.com
ORGANIZER;CN="COSMOBUBBLES":etcetera@nosuchlibrary.com
DESCRIPTION:Berlin\, Germany
DTSTART;VALUE=DATE:20251208
END:VEVENT
BEGIN:VEVENT
SUMMARY:Royal Arena
DTSTAMP:20250902T233738Z
SEQUENCE:0
UID:16-1-e99a43e02a83556861ecf90150f1ba83@etceteraforum.com
ORGANIZER;CN="COSMOBUBBLES":etcetera@nosuchlibrary.com
DESCRIPTION:Copenhagen\, Denmark
DTSTART;VALUE=DATE:20251205
END:VEVENT
BEGIN:VEVENT
SUMMARY:Royal Arena
DTSTAMP:20250902T233727Z
SEQUENCE:0
UID:15-1-e99a43e02a83556861ecf90150f1ba83@etceteraforum.com
ORGANIZER;CN="COSMOBUBBLES":etcetera@nosuchlibrary.com
DESCRIPTION:Copenhagen\, Denmark
DTSTART;VALUE=DATE:20251204
END:VEVENT
BEGIN:VEVENT
SUMMARY:The O2
DTSTAMP:20250902T233611Z
SEQUENCE:0
UID:10-1-e99a43e02a83556861ecf90150f1ba83@etceteraforum.com
ORGANIZER;CN="COSMOBUBBLES":etcetera@nosuchlibrary.com
DESCRIPTION:London\, UK
DTSTART;VALUE=DATE:20251122
END:VEVENT
BEGIN:VEVENT
SUMMARY:The O2
DTSTAMP:20250902T233622Z
SEQUENCE:0
UID:11-1-e99a43e02a83556861ecf90150f1ba83@etceteraforum.com
ORGANIZER;CN="COSMOBUBBLES":etcetera@nosuchlibrary.com
DESCRIPTION:London\, UK
DTSTART;VALUE=DATE:20251124
END:VEVENT
BEGIN:VEVENT
SUMMARY:The O2
DTSTAMP:20250902T233555Z
SEQUENCE:0
UID:9-1-e99a43e02a83556861ecf90150f1ba83@etceteraforum.com
ORGANIZER;CN="COSMOBUBBLES":etcetera@nosuchlibrary.com
DESCRIPTION:London\, UK
DTSTART;VALUE=DATE:20251121
END:VEVENT
BEGIN:VEVENT
SUMMARY:Movistar Arena
DTSTAMP:20250902T232921Z
SEQUENCE:0
UID:2-1-e99a43e02a83556861ecf90150f1ba83@etceteraforum.com
ORGANIZER;CN="COSMOBUBBLES":etcetera@nosuchlibrary.com
DESCRIPTION:Madrid\, Spain
DTSTART;VALUE=DATE:20251105
END:VEVENT
BEGIN:VEVENT
SUMMARY:Unipol Arena
DTSTAMP:20250902T233513Z
SEQUENCE:0
UID:8-1-e99a43e02a83556861ecf90150f1ba83@etceteraforum.com
ORGANIZER;CN="COSMOBUBBLES":etcetera@nosuchlibrary.com
DESCRIPTION:Bologna\, Italy
DTSTART;VALUE=DATE:20251118
END:VEVENT
BEGIN:VEVENT
SUMMARY:Unipol Arena
DTSTAMP:20250902T233442Z
SEQUENCE:0
UID:7-1-e99a43e02a83556861ecf90150f1ba83@etceteraforum.com
ORGANIZER;CN="COSMOBUBBLES":etcetera@nosuchlibrary.com
DESCRIPTION:Bologna\, Italy
DTSTART;VALUE=DATE:20251117
END:VEVENT
BEGIN:VEVENT
SUMMARY:Unipol Arena
DTSTAMP:20250902T233430Z
SEQUENCE:0
UID:6-1-e99a43e02a83556861ecf90150f1ba83@etceteraforum.com
ORGANIZER;CN="COSMOBUBBLES":etcetera@nosuchlibrary.com
DESCRIPTION:Bologna\, Italy
DTSTART;VALUE=DATE:20251115
END:VEVENT
BEGIN:VEVENT
SUMMARY:Unipol Arena
DTSTAMP:20250902T233416Z
SEQUENCE:0
UID:5-1-e99a43e02a83556861ecf90150f1ba83@etceteraforum.com
ORGANIZER;CN="COSMOBUBBLES":etcetera@nosuchlibrary.com
DESCRIPTION:Bologna\, Italy
DTSTART;VALUE=DATE:20251114
END:VEVENT
BEGIN:VEVENT
SUMMARY:Movistar Arena
DTSTAMP:20250902T233339Z
SEQUENCE:0
UID:4-1-e99a43e02a83556861ecf90150f1ba83@etceteraforum.com
ORGANIZER;CN="COSMOBUBBLES":etcetera@nosuchlibrary.com
DESCRIPTION:Madrid\, Spain
DTSTART;VALUE=DATE:20251108
END:VEVENT
BEGIN:VEVENT
SUMMARY:Movistar Arena
DTSTAMP:20250902T233250Z
SEQUENCE:0
UID:3-1-e99a43e02a83556861ecf90150f1ba83@etceteraforum.com
ORGANIZER;CN="COSMOBUBBLES":etcetera@nosuchlibrary.com
DESCRIPTION:Madrid\, Spain
DTSTART;VALUE=DATE:20251107
END:VEVENT
BEGIN:VEVENT
SUMMARY:Movistar Arena
DTSTAMP:20250902T232758Z
SEQUENCE:0
UID:1-1-e99a43e02a83556861ecf90150f1ba83@etceteraforum.com
ORGANIZER;CN="COSMOBUBBLES":etcetera@nosuchlibrary.com
DESCRIPTION:Madrid\, Spain
DTSTART;VALUE=DATE:20251104
END:VEVENT
END:VCALENDAR
